BEGIN:VCALENDAR
VERSION:2.0
PRODID:-//wp-events-plugin.com//7.2.3.1//EN
BEGIN:VEVENT
UID:9@tu.tsv-kandern.de
DTSTART;TZID=Europe/Berlin;VALUE=DATE:20250405
DTEND;TZID=Europe/Berlin;VALUE=DATE:20250407
DTSTAMP:20250324T095253Z
URL:https://tu.tsv-kandern.de/events/trainingswochenende-nachmittag-in-ist
 ein-nur-fuer-mitglieder-der-geraetturngruppen-weiblich
SUMMARY:Trainingswochenende/-nachmittag in Istein (nur für Mitglieder der 
 Gerätturngruppen weiblich!)
DESCRIPTION:Dieses Trainingsangebot findet am 5.+6. April nur für die Mitg
 lieder der entsprechenden Gruppen statt. Die Einladung mit allen wichtigen
  Infos werden in den Gruppen verteilt.\nDie Jugendturnerinnen haben hier e
 in Trainingswochenende mit Übernachtung in der Halle\, die Mädchenturngr
 uppen ab 6 Jahren einen Trainingsnachmittag am Samstag.\n\nFür unsere Ger
 ätturngruppen weiblich bieten wir drei Mal im Jahr ein zusätzliches Trai
 ningsangebot in der Allianz-Halle (Kunstturnhalle) in Istein an. Diese zei
 chnet sich durch den Schwingboden und die Schnitzelgrube aus\, bei der die
  Mädchen problemlos auch mal schwierigere Elemente probieren können.\nSo
 wohl für die kleinen als auch für die großen Mädels ist es aber auch i
 mmer ein schöner Nachmittag mit rumtoben\, erkunden und sich auszuprobier
 en.
END:VEVENT
BEGIN:VTIMEZONE
TZID:Europe/Berlin
X-LIC-LOCATION:Europe/Berlin
BEGIN:DAYLIGHT
DTSTART:20250330T030000
TZOFFSETFROM:+0100
TZOFFSETTO:+0200
TZNAME:CEST
END:DAYLIGHT
END:VTIMEZONE
END:VCALENDAR